BEGIN:VCALENDAR
VERSION:2.0
PRODID:-//QUE Group - ECPv6.15.20//NONSGML v1.0//EN
CALSCALE:GREGORIAN
METHOD:PUBLISH
X-WR-CALNAME:QUE Group
X-ORIGINAL-URL:https://quegroup.org
X-WR-CALDESC:Events for QUE Group
REFRESH-INTERVAL;VALUE=DURATION:PT1H
X-Robots-Tag:noindex
X-PUBLISHED-TTL:PT1H
BEGIN:VTIMEZONE
TZID:UTC
BEGIN:STANDARD
TZOFFSETFROM:+0000
TZOFFSETTO:+0000
TZNAME:UTC
DTSTART:20100101T000000
END:STANDARD
END:VTIMEZONE
BEGIN:VTIMEZONE
TZID:America/Los_Angeles
BEGIN:DAYLIGHT
TZOFFSETFROM:-0800
TZOFFSETTO:-0700
TZNAME:PDT
DTSTART:20090308T100000
END:DAYLIGHT
BEGIN:STANDARD
TZOFFSETFROM:-0700
TZOFFSETTO:-0800
TZNAME:PST
DTSTART:20091101T090000
END:STANDARD
BEGIN:DAYLIGHT
TZOFFSETFROM:-0800
TZOFFSETTO:-0700
TZNAME:PDT
DTSTART:20100314T100000
END:DAYLIGHT
BEGIN:STANDARD
TZOFFSETFROM:-0700
TZOFFSETTO:-0800
TZNAME:PST
DTSTART:20101107T090000
END:STANDARD
BEGIN:DAYLIGHT
TZOFFSETFROM:-0800
TZOFFSETTO:-0700
TZNAME:PDT
DTSTART:20110313T100000
END:DAYLIGHT
BEGIN:STANDARD
TZOFFSETFROM:-0700
TZOFFSETTO:-0800
TZNAME:PST
DTSTART:20111106T090000
END:STANDARD
END:VTIMEZONE
BEGIN:VEVENT
DTSTART;TZID=UTC:20190618T000000
DTEND;TZID=UTC:20190618T000000
DTSTAMP:20260423T115310
CREATED:20211117T235351Z
LAST-MODIFIED:20211123T184554Z
UID:10000042-1560816000-1560816000@quegroup.org
SUMMARY:Workshop 1-B: Forms Designer
DESCRIPTION:Workshop 1-B: Forms Designer\nThiago Alvares\, Data Studio \nThis workshop will show you how to accomplish design changes and data requests.\nTake a closer look at advanced scenarios when requesting data and gain a  better understanding of how the data pipelines work. Edit a form in a class activity with additional challenges available for more advanced users.
URL:https://quegroup.org/event/workshop-1-b-forms-designer/
LOCATION:Marriot – Coronado Island\, Marriot - Coronado Island\, San Diego\, CA\, 92101\, United States
CATEGORIES:Event Registration
END:VEVENT
BEGIN:VEVENT
DTSTART;TZID=UTC:20190618T000000
DTEND;TZID=UTC:20190618T000000
DTSTAMP:20260423T115310
CREATED:20211117T234850Z
LAST-MODIFIED:20211123T184640Z
UID:10000043-1560816000-1560816000@quegroup.org
SUMMARY:Workshop 1-A: What is SQL?
DESCRIPTION:Workshop 1-A: What is SQL?\nPatsy Lippiatt\, Component Control \nA beginner’s basic introduction to SQL. Gain an understanding of what SQL is and what it can be used for. Learn about the aspects of a Quantum database that will lead to understanding of how to use SQL. Build and practice simple select statements following guided class activity.
URL:https://quegroup.org/event/workshop-1-a-what-is-sql/
LOCATION:Marriot – Coronado Island\, Marriot - Coronado Island\, San Diego\, CA\, 92101\, United States
CATEGORIES:Event Registration
END:VEVENT
BEGIN:VEVENT
DTSTART;TZID=UTC:20180619T000000
DTEND;TZID=UTC:20180621T000000
DTSTAMP:20260423T115310
CREATED:20211117T232150Z
LAST-MODIFIED:20211123T185135Z
UID:10000026-1529366400-1529539200@quegroup.org
SUMMARY:2018 Annual QUE Group Conference (San Diego/Coronado Island)
DESCRIPTION:  \nThe QUE Group would like to invite you to register for the 13th Annual QUE Group Conference.  This event will take place in San Diego\, California from June 19th to June 21st. This annual conference brings together Quantum Users\, industry leaders\, and Component Control staff to provide you with knowledge and inspiration to improve your business using the Quantum Control software.\nThis year\, we have opened the QUE Group membership to everyone. You asked for more answers\, and we want to help you find them. Your QUE Group Board will be introducing help booths to provide one on one support.  The Consultants package includes an option for a personalized booth\, where you can market your business and build relationships with attendee’s seeking specific support.\nFrom the success of our trial workshops last year\, another 4hrs of hands on learning has been added.  Workshops will be held on the Tuesday afternoon\, see the conference outline for more details.  Register now and take advantage of the Early Bird Special before March 1st! \nRegistration can be paid via check or PayPal (you do not need a PayPal account\, but you must pay via their website) or by sending a check to:\nQUE Group\nPO Box 191772\nAtlanta\, GA 30319 \nNo refunds issued for cancelled reservations after June 1st.\nRefunds for cancellations received prior to June 1st will be issued less a $50 non-refundable processing fee. \nBook your hotel room
URL:https://quegroup.org/event/2018-annual-que-group-conference-san-diego-coronado-island/
LOCATION:Marriot – Coronado Island\, Marriot - Coronado Island\, San Diego\, CA\, 92101\, United States
CATEGORIES:Event Registration
END:VEVENT
BEGIN:VEVENT
DTSTART;TZID=UTC:20170620T000000
DTEND;TZID=UTC:20170622T000000
DTSTAMP:20260423T115310
CREATED:20211117T221214Z
LAST-MODIFIED:20211123T185726Z
UID:10000027-1497916800-1498089600@quegroup.org
SUMMARY:2017 Annual QUE Group Conference (San Diego/La Jolla)
DESCRIPTION:  \nRegistration can be paid via check or PayPal (you do not need a PayPal account\, but you must pay via their website) or by sending a check to:\nQUE Group\nPO Box 191772\nAtlanta\, GA 30319 \n**Refunds for cancellations received prior to May 15th will be issued less a $50 non-refundable processing fee. No refunds issued after May 15th** \nBook your hotel room
URL:https://quegroup.org/event/2017-annual-que-group-conference-san-diego-la-jolla/
LOCATION:Hilton – Torrey Pines\, Hilton - Torrey Pines\, La Jolla\, San Diego\,\, CA\, United States
CATEGORIES:Event Registration
END:VEVENT
BEGIN:VEVENT
DTSTART;TZID=UTC:20160730T000000
DTEND;TZID=UTC:20160730T000000
DTSTAMP:20260423T115310
CREATED:20211118T010200Z
LAST-MODIFIED:20211123T185819Z
UID:10000048-1469836800-1469836800@quegroup.org
SUMMARY:Saturday Brunch Cruise
DESCRIPTION:Saturday Event:\n \nBrunch Cruise around San Diego Bay\nJuly 30\, 2016 – 11:00 am – 1:00 pm\n\n\n\n\n\nThis excursion is open to all Conference Attendees and their guests\, as well as Component Control employees! Admission is complimentary for all Conference Attendees and Component Control employees. Conference Attendees can purchase a ticket for their guests for $100 each. \n\n\n\n\nAdmission includes: \n\n\n2-hour excursion\n\n\nComplimentary glass of champagne at bording\n\n\nComplimentary tray-passed hors d’oeuvres and brunch buffet\n\n\n2 beer and wine drink tickets (per person over 21)\n\n\nCash bar available for any additional beverages
URL:https://quegroup.org/event/saturday-brunch-cruise/
LOCATION:San Diego\, San Diego\, CA\, United States
CATEGORIES:Event Registration
END:VEVENT
BEGIN:VEVENT
DTSTART;TZID=UTC:20160727T000000
DTEND;TZID=UTC:20160730T000000
DTSTAMP:20260423T115310
CREATED:20211117T135530Z
LAST-MODIFIED:20211123T190138Z
UID:10000028-1469577600-1469836800@quegroup.org
SUMMARY:2016 Annual QUE Group Conference (San Diego)
DESCRIPTION:Login to see member pricing \nRegistration can be paid via mail or PayPal (you do not need a PayPal account\, but you must pay via their website) or by sending a check to:\nQUE Group\nPO Box 191772\nAtlanta\, GA 30319 \n**Refunds for cancellations received prior to June 15th will be issued less a $50 non-refundable processing fee.** \nCome share your knowledge with other users and maybe learn a thing or two about Quantum software. \nBook your hotel room \nBook your Hotel Room Now! \nPlease save the date for 2016’s QUE Group/Component Control annual users conference in beautiful sunny San Diego. This is your opportunity to meet the Component Control team one on one\, as well as many of your customers and or vendors from other companies in the aviation industry that use Quantum on a daily basis. Learn new tips & tricks in Quantum from the two day conference sessions. Voice your enhancement requests and be the first to find out what is in store for upcoming versions of Quantum. \nJuly 28th and 29th will be lectures and round table sessions. If you are interested in presenting\, please let us know by emailing conference@quegroup.org. \nRound table discussions occur after lunch each day. During registration\, you will be asked to sign up for one each day. These will be group discussions on the selected topic. A place to talk with others on specific topics\, ask questions\, and seek alternative solutions. It has been a huge benefit in the past years to QUE Group members. \nGuests may attend social events (additional fees may apply). \nAttendees are responsible for reserving their own hotel accommodations. A limited number of rooms have been reserved at the group rate of $239/per night.\nGroup rate expires June 27\, 2016. First come\, first serve.
URL:https://quegroup.org/event/2016-annual-que-group-conference-san-diego/
LOCATION:Hard Rock Hotel\, Hard Rock Hotel\, San Diego\, CA\, United States
CATEGORIES:Event Registration
END:VEVENT
BEGIN:VEVENT
DTSTART;TZID=UTC:20150725T080000
DTEND;TZID=UTC:20150725T150000
DTSTAMP:20260423T115310
CREATED:20211117T133604Z
LAST-MODIFIED:20211123T190220Z
UID:10000029-1437811200-1437836400@quegroup.org
SUMMARY:QUEGroup 2015 Golf Outing
DESCRIPTION:Saturday\, July 25 – 8:00am shotgun start
URL:https://quegroup.org/event/quegroup-2015-golf-outing/
LOCATION:CA
CATEGORIES:Event Registration
END:VEVENT
BEGIN:VEVENT
DTSTART;TZID=UTC:20150722T000000
DTEND;TZID=UTC:20150725T000000
DTSTAMP:20260423T115310
CREATED:20211117T125509Z
LAST-MODIFIED:20211123T192822Z
UID:10000030-1437523200-1437782400@quegroup.org
SUMMARY:2015 Annual QUE Group Conference (San Diego)
DESCRIPTION:Login to see member pricing \nRegistration can be paid via mail or PayPal (you do not need a PayPal account\, but you must pay via their website) or by sending a check to QUEGroup\, PO Box 1572\, Palm City\, FL 34991. \n**Refunds for cancellations received prior to June 15th will be issued less a $50 non-refundable processing fee.** \nCome share your knowledge with other users and maybe learn a thing or two about Quantum software. \nBook your hotel room \nBook your Hotel Room Now! \nPlease save the date for 2015’s QUE Group/Component Control annual users conference in beautiful sunny San Diego. This is your opportunity to meet the Component Control team one on one\, as well as many of your customers and or vendors from other companies in the aviation industry that use Quantum on a daily basis. Learn new tips & tricks in Quantum from the two day conference sessions. Voice your enhancement requests and be the first to find out what is in store for upcoming versions of Quantum. \nJuly 23rd and 24th will be lectures and round table sessions. If you are interested in presenting\, please let us know by emailing conference@quegroup.org. \nRound table discussions occur after lunch each day. During registration\, you will be asked to sign up for one each day. These will be group discussions on the selected topic. A place to talk with others on specific topics\, ask questions\, and seek alternative solutions. It has been a huge benefit in the past years to QueGroup members. \nGuests may attend social events (additional fees may apply). \nAttendees are responsible for reserving their own hotel accommodations. A limited number of rooms have been reserved at the group rate of $219/per night. First come\, first serve.
URL:https://quegroup.org/event/2015-annual-que-group-conference-san-diego/
LOCATION:Hilton Bayfront Hotel\, Hilton Bayfront Hotel\, San Diego\, CA\, United States
CATEGORIES:Event Registration
END:VEVENT
BEGIN:VEVENT
DTSTART;TZID=UTC:20140716T000000
DTEND;TZID=UTC:20140719T000000
DTSTAMP:20260423T115310
CREATED:20211117T124648Z
LAST-MODIFIED:20211123T193030Z
UID:10000031-1405468800-1405728000@quegroup.org
SUMMARY:2014 Annual QUE Group Conference (San Diego)
DESCRIPTION:Registration can be paid via mail or PAYPAL (you do not need a paypal account\, but you must pay via their website) or by sending a check to QUEGroup\, PO Box 1572\, Palm City\, FL 34991. \nCome share your knowledge with other users and maybe learn a thing or two about Quantum software. \nBook your hotel room\nBook your Hotel Room Now! \nQue Group 2014 Business Agenda \nQue Group 2014 Social Agenda \nPlease save the date for 2014’s Que Group/Component Control annual users conference in beautiful sunny San Diego. This is your opportunity to meet the Component Control team one on one\, as well as many of your customers and or vendors from other companies in the aviation industry that use Quantum on a daily basis. Learn new tips & tricks in Quantum from the two day conference sessions. Voice your enhancement requests and be the first to find out what is in store for upcoming versions of Quantum. \nJuly 17th and 18th will be lectures and round table sessions. If you are interested in presenting\, please contact John Boyce at jboyce@ansettspares.com. \nRoundtable discussions occur after breakfast each morning. During registration\, you will be asked to sign up for one each day. These will be group discussions on the selected topic… A place to talk with others on specific topics\, ask questions\, and seek alternatives solutions. It has been a huge benefit in the past years to QueGroup members. \nGuests may attend social events (additional fees may apply). \nAttendees are responsible for reserving their own hotel accommodations. A limited number of rooms have been reserved at the group rate of $209/per night. First come\, first serve.
URL:https://quegroup.org/event/2014-annual-que-group-conference-san-diego/
LOCATION:Hilton Bayfront Hotel\, Hilton Bayfront Hotel\, San Diego\, CA\, United States
CATEGORIES:Event Registration
END:VEVENT
BEGIN:VEVENT
DTSTART;TZID=UTC:20130724T000000
DTEND;TZID=UTC:20130727T000000
DTSTAMP:20260423T115310
CREATED:20211117T122635Z
LAST-MODIFIED:20211123T193427Z
UID:10000032-1374624000-1374883200@quegroup.org
SUMMARY:2013 Annual QUE Group Conference (San Diego)
DESCRIPTION:Registration can be paid via mail or PAYPAL (you do not need a paypal account\, but you must pay via their website) or by sending a check to QUEGroup\, PO Box 1572\, Palm City\, FL 34991. \nCome share your knowledge with other users and maybe learn a thing or two about Quantum software. \nHotel Reservation \nBook your Hotel Room Now! \nPlease save the date for 2013’s Que Group/Component Control annual users conference in beautiful sunny San Diego. This is your opportunity to meet the Component Control team one on one\, as well as many of your customers and or vendors from other companies in the aviation industry that use Quantum on a daily basis. Learn new tips & tricks in Quantum from the two day conference sessions. Voice your enhancement requests and be the first to find out what is in store for upcoming versions of Quantum. \nJuly 25th and 26th will be lectures and round table sessions. If you are interested in presenting\, please contact John Boyce at jboyce@ansettspares.com. \nRoundtable discussions occur after breakfast each morning. During registration\, you will be asked to sign up for one each day. These will be group discussions on the selected topic… A place to talk with others on specific topics\, ask questions\, and seek alternatives solutions. It has been a huge benefit in the past years to QueGroup members. \nGuests may attend social events (additional fees may apply). \nAttendees are responsible for reserving their own hotel accomodations. A limited number of rooms have been reserved at the group rate of $199/per night. First come\, first serve. \nIf you are interested in playing golf on Saturday\, please sign up here: \nCANCELLATION POLICY. Cancellations received by 6/30/13 will be re-imbursed for their fees. After 6/30/13 all registration fees and other charges will be forfeited.
URL:https://quegroup.org/event/2013-annual-que-group-conference-san-diego/
LOCATION:Hilton Bayfront Hotel\, Hilton Bayfront Hotel\, San Diego\, CA\, United States
CATEGORIES:Event Registration
END:VEVENT
BEGIN:VEVENT
DTSTART;TZID=UTC:20120718T000000
DTEND;TZID=UTC:20120721T000000
DTSTAMP:20260423T115310
CREATED:20211116T203331Z
LAST-MODIFIED:20211123T193724Z
UID:10000033-1342569600-1342828800@quegroup.org
SUMMARY:2012 Annual Que Group Conference (San Diego)
DESCRIPTION:Registration can be paid via mail or PAYPAL (you do not need a paypal account\, but you must pay via their website) or by sending a check to QueGroup\, 1826 Bickford Ave.\, Snohomish\, WA 98290. \nCome share your knowledge with other users and maybe learn a thing or two about Quantum software. \nPlease save the date for 2012’s QueGroup/Component Control annual users conference in beautiful sunny San Diego. This is your opportunity to meet the Component Control team one on one\, as well as many of your customers and or vendors from other companies in the aviation industry that use Quantum on a daily basis. Learn new tips & tricks in Quantum from the two day conference sessions. Voice your enhancement requests and be the first to find out what is in store for upcoming versions of Quantum. \nJuly 19th and 20th will be lectures and round table sessions. If you are interested in presenting\, please contact John Boyce at jboyce@ansettspares.com. \nRoundtable discussions occur after breakfast each morning. During registration\, you will be asked to sign up for one each day. These will be group discussions on the selected topic… A place to talk with others on specific topics\, ask questions\, and seek alternatives solutions. It has been a huge benefit in the past years to QueGroup members. \nGuests may attend social events (additional fees may apply). \nAttendees are responsible for reserving their own hotel accomodations. A limited number of rooms have been reserved at the group rate of $199/per night. First come\, first serve. \nIf you are interested in playing golf on Saturday\, please sign up here: \nCANCELLATION POLICY. Cancellations received by 6/30/12 will be re-imbursed for their fees. After 6/30/12 all registration fees and other charges will be forfeited.
URL:https://quegroup.org/event/2012-annual-que-group-conference-san-diego/
LOCATION:Hilton Bayfront Hotel\, Hilton Bayfront Hotel\, San Diego\, CA\, United States
CATEGORIES:Event Registration
END:VEVENT
BEGIN:VEVENT
DTSTART;TZID=UTC:20110504T000000
DTEND;TZID=UTC:20110506T000000
DTSTAMP:20260423T115310
CREATED:20211116T195708Z
LAST-MODIFIED:20211123T193858Z
UID:10000034-1304467200-1304640000@quegroup.org
SUMMARY:2011 Annual Que Group Conference (South Florida)
DESCRIPTION:Registration can be paid via mail or PAYPAL (you do not need a paypal account\, but you must pay via their website) \nCome share your knowledge with other users and maybe learn a thing or two about Quantum software. \nSee Agenda Here! \nPlease save the date for 2011’s QueGroup conference in beautiful sunny South Florida. This is your opportunity to meet the component control team one on one\, many of your customers and or vendors from other companies in the aviation industry that use Quantum on a daily basis just like you. Learn new tips & tricks in Quantum from the two day conference sessions. Voice your enhancement requests and be the first to find out what is in store for the next version of Quantum. \nMay 4th is a social meet and greet. This year we are offering a small table top exhibit space to those interested. Table top exhibit space is available for $250. Proceeds from this will go towards the QUE Group conference. Exhibitors will be allowed to set up a table top dispaly and promote their company. \nMay 5th and 6th will be lectures and round table sessions. Detailed agenda will be out soon. If you are interested in doing a lecture\, please contact John Boyce at jboyce@ansettspares.com \nGuests may attend social events (additional fees may apply). \nYou are responsible for reserving your own hotel accomodations. QueGroup has secured a block of rooms at the Westin at a discounted rate of $179 per night. To reserve your room\, go to: \nhttp://www.starwoodmeeting.com/Book/Quantum \nGive keyword “Quantum” to obtain the discounted rate. This block of rooms at this rate will be held until April 19\, 2011. Reserve early! \nAdditional event information \nRemember! You are responsible for reserving your own hotel accomodations. QueGroup has secured a block of rooms at the Westin at a discounted rate of $179 per night. To reserve your room\, go to: \nhttp://www.starwoodmeeting.com/Book/Quantum \nOr you may call the reservation number at 1-888-627-9057 and give keyword “Quantum” to obtain the discounted rate. This block of rooms at this rate will be held until April 19\, 2011. Reserve early!
URL:https://quegroup.org/event/2011-annual-que-group-conference-south-florida/
LOCATION:Westin Diplomat Resort & Spa\, Hollywood\, FL\, United States
CATEGORIES:Event Registration
END:VEVENT
BEGIN:VEVENT
DTSTART;VALUE=DATE:20100513
DTEND;VALUE=DATE:20100515
DTSTAMP:20260423T115310
CREATED:20211116T194639Z
LAST-MODIFIED:20211116T194858Z
UID:10000045-1273708800-1273881599@quegroup.org
SUMMARY:Annual Que Group Users Meeting
DESCRIPTION:Come share your knowledge with other users and maby learn a thing or two about Quantum software. \nPlease save the date for this years’ QueGroup conference in beautiful sunny San Diego. This is your opportunity to meet the component control team one on one\, many of your customers and or vendors from other companies in the aviation industry that use Quantum on a daily basis just like you. Learn new tips & tricks in Quantum from the two day conference sessions. Voice your enhancement requests and be the first to find out what is in store for the next version of Quantum.
URL:https://quegroup.org/event/annual-que-group-users-meeting/
LOCATION:San Diego\, San Diego\, CA\, United States
CATEGORIES:Event Registration
END:VEVENT
END:VCALENDAR