BEGIN:VCALENDAR
VERSION:2.0
PRODID:-//QUE Group - ECPv6.15.20//NONSGML v1.0//EN
CALSCALE:GREGORIAN
METHOD:PUBLISH
X-ORIGINAL-URL:https://quegroup.org
X-WR-CALDESC:Events for QUE Group
REFRESH-INTERVAL;VALUE=DURATION:PT1H
X-Robots-Tag:noindex
X-PUBLISHED-TTL:PT1H
BEGIN:VTIMEZONE
TZID:America/Denver
BEGIN:DAYLIGHT
TZOFFSETFROM:-0700
TZOFFSETTO:-0600
TZNAME:MDT
DTSTART:20240310T090000
END:DAYLIGHT
BEGIN:STANDARD
TZOFFSETFROM:-0600
TZOFFSETTO:-0700
TZNAME:MST
DTSTART:20241103T080000
END:STANDARD
BEGIN:DAYLIGHT
TZOFFSETFROM:-0700
TZOFFSETTO:-0600
TZNAME:MDT
DTSTART:20250309T090000
END:DAYLIGHT
BEGIN:STANDARD
TZOFFSETFROM:-0600
TZOFFSETTO:-0700
TZNAME:MST
DTSTART:20251102T080000
END:STANDARD
BEGIN:DAYLIGHT
TZOFFSETFROM:-0700
TZOFFSETTO:-0600
TZNAME:MDT
DTSTART:20260308T090000
END:DAYLIGHT
BEGIN:STANDARD
TZOFFSETFROM:-0600
TZOFFSETTO:-0700
TZNAME:MST
DTSTART:20261101T080000
END:STANDARD
END:VTIMEZONE
BEGIN:VEVENT
DTSTART;TZID=America/Denver:20250625T180000
DTEND;TZID=America/Denver:20250627T200000
DTSTAMP:20260423T134058
CREATED:20250417T144752Z
LAST-MODIFIED:20250417T144752Z
UID:10000049-1750874400-1751054400@quegroup.org
SUMMARY:QUE Group Conference 2025
DESCRIPTION:QUE Group Conference 2025 \nWe’re back! Join us at the Embassy Suites by Hilton Convention Center Las Vegas for the QUE Group Conference 2025. This in-person event is a must-attend for aviation industry professionals looking to network\, learn\, and grow. With top-notch speakers\, interactive roundtables\, and exciting networking opportunities\, this conference is where you want to be. Don’t miss out on this chance to connect with like-minded individuals and gain valuable insights into the Quantum ERP software. Mark your calendars and get ready for an unforgettable experience! \nHotel Booking Discounted Rate: \nhttps://book.passkey.com/e/50886904 \nStay tuned for further information about the conference including the agenda and additional events. If you have any questions or concerns\, please reach out to board@quegroup.org. \n \n\n\n	Related
URL:https://quegroup.org/event/que-group-conference-2025/
LOCATION:Embassy Suites by Hilton Convention Center Las Vegas\, 3600 Paradise Road\, Las Vegas\, NV\, 89169\, United States
END:VEVENT
END:VCALENDAR