BEGIN:VCALENDAR
VERSION:2.0
PRODID:-//QUE Group - ECPv6.15.20//NONSGML v1.0//EN
CALSCALE:GREGORIAN
METHOD:PUBLISH
X-WR-CALNAME:QUE Group
X-ORIGINAL-URL:https://quegroup.org
X-WR-CALDESC:Events for QUE Group
REFRESH-INTERVAL;VALUE=DURATION:PT1H
X-Robots-Tag:noindex
X-PUBLISHED-TTL:PT1H
BEGIN:VTIMEZONE
TZID:UTC
BEGIN:STANDARD
TZOFFSETFROM:+0000
TZOFFSETTO:+0000
TZNAME:UTC
DTSTART:20150101T000000
END:STANDARD
END:VTIMEZONE
BEGIN:VEVENT
DTSTART;TZID=UTC:20160727T000000
DTEND;TZID=UTC:20160730T000000
DTSTAMP:20260423T181832
CREATED:20211117T135530Z
LAST-MODIFIED:20211123T190138Z
UID:10000028-1469577600-1469836800@quegroup.org
SUMMARY:2016 Annual QUE Group Conference (San Diego)
DESCRIPTION:Login to see member pricing \nRegistration can be paid via mail or PayPal (you do not need a PayPal account\, but you must pay via their website) or by sending a check to:\nQUE Group\nPO Box 191772\nAtlanta\, GA 30319 \n**Refunds for cancellations received prior to June 15th will be issued less a $50 non-refundable processing fee.** \nCome share your knowledge with other users and maybe learn a thing or two about Quantum software. \nBook your hotel room \nBook your Hotel Room Now! \nPlease save the date for 2016’s QUE Group/Component Control annual users conference in beautiful sunny San Diego. This is your opportunity to meet the Component Control team one on one\, as well as many of your customers and or vendors from other companies in the aviation industry that use Quantum on a daily basis. Learn new tips & tricks in Quantum from the two day conference sessions. Voice your enhancement requests and be the first to find out what is in store for upcoming versions of Quantum. \nJuly 28th and 29th will be lectures and round table sessions. If you are interested in presenting\, please let us know by emailing conference@quegroup.org. \nRound table discussions occur after lunch each day. During registration\, you will be asked to sign up for one each day. These will be group discussions on the selected topic. A place to talk with others on specific topics\, ask questions\, and seek alternative solutions. It has been a huge benefit in the past years to QUE Group members. \nGuests may attend social events (additional fees may apply). \nAttendees are responsible for reserving their own hotel accommodations. A limited number of rooms have been reserved at the group rate of $239/per night.\nGroup rate expires June 27\, 2016. First come\, first serve. \n\n\n	Related
URL:https://quegroup.org/event/2016-annual-que-group-conference-san-diego/
LOCATION:Hard Rock Hotel\, Hard Rock Hotel\, San Diego\, CA\, United States
CATEGORIES:Event Registration
END:VEVENT
END:VCALENDAR