BEGIN:VCALENDAR
VERSION:2.0
PRODID:-//QUE Group - ECPv6.15.20//NONSGML v1.0//EN
CALSCALE:GREGORIAN
METHOD:PUBLISH
X-ORIGINAL-URL:https://quegroup.org
X-WR-CALDESC:Events for QUE Group
REFRESH-INTERVAL;VALUE=DURATION:PT1H
X-Robots-Tag:noindex
X-PUBLISHED-TTL:PT1H
BEGIN:VTIMEZONE
TZID:UTC
BEGIN:STANDARD
TZOFFSETFROM:+0000
TZOFFSETTO:+0000
TZNAME:UTC
DTSTART:20170101T000000
END:STANDARD
END:VTIMEZONE
BEGIN:VEVENT
DTSTART;TZID=UTC:20200616T093000
DTEND;TZID=UTC:20200616T113000
DTSTAMP:20260423T151646
CREATED:20211118T002433Z
LAST-MODIFIED:20211123T183028Z
UID:10000037-1592299800-1592307000@quegroup.org
SUMMARY:2020 Workshop 1A: What is SQL?
DESCRIPTION:Workshop 1-A: What is SQL?\nPatsy Lippiatt\, Component Control \nA beginner’s basic introduction to SQL. Gain an understanding of what SQL is and what it can be used for. Learn about the aspects of a Quantum database that will lead to understanding of how to use SQL. Build and practice simple select statements following guided class activity. \n\n\n	Related
URL:https://quegroup.org/event/2020-workshop-1a-what-is-sql/
LOCATION:Marriot – Coronado Island\, Marriot - Coronado Island\, San Diego\, CA\, 92101\, United States
CATEGORIES:Event Registration
END:VEVENT
BEGIN:VEVENT
DTSTART;TZID=UTC:20200616T000000
DTEND;TZID=UTC:20200618T000000
DTSTAMP:20260423T151646
CREATED:20211118T002029Z
LAST-MODIFIED:20211123T183203Z
UID:10000038-1592265600-1592438400@quegroup.org
SUMMARY:2020 Annual QUE Group Conference (San Diego/Coronado Island)
DESCRIPTION:  \n\nRegistration for 2020 is open!\nRegister now and take advantage of the Early Bird Special before March 31st! \nThe QUE Group invites you to register for\nthe 15th Annual QUE Group Conference.\nRegister now Book your hotel room \n\n  \n\n\n\n\n✓\n\nQUE Group 2020 is an exclusive SMA Members and Partners only event. Users requiring a special guest code can contact conference@quegroup.org for consideration.\nPartners can apply at partnerinfo@componentcontrol.com\n\n\n\n\n\n\n\n✓\n\nWe will only be accepting online credit card payments for registration. To request special alternative arrangements\, contact the QUE Group Board at board@quegroup.org\n\n\n\n\n\n\n\n✓\n\nDiscounts for Speakers are still available but are limited. Expand your network by sharing your experience with Quantum.\n\n\n\n\n\n\n\n✓\n\nA separate registration for Workshops will be available April 1st\, 2020.\nWorkshops will be held on Tuesday June 16th\, 2020.\nSee the conference outline for more details. (coming soon)\n\n\n\n\n\n\n\n✓\n\nBringing a Guest? Guest passes are available during registration but only permit access to the Welcome Reception and Landing Party.\nAccess to the conference area is not allowed.\n\n\n\n\n\n\n\n\n\n\n\n•\n\nNo refunds issued for cancelled reservations after June 1st. Refunds for cancellations received prior to June 1st will be issued less a $50 non-refundable processing fee.\n\n\n•\n\nA 10% Late fee will apply to payments collected during or after the 2020 QUE Group Conference closes.\n\n\n•\n\nWorkshops seats will not be reserved until after payment is received.\n\n\n\n\n\n\n	Related
URL:https://quegroup.org/event/2020-annual-que-group-conference-san-diego-coronado-island/
LOCATION:Marriot – Coronado Island\, Marriot - Coronado Island\, San Diego\, CA\, 92101\, United States
CATEGORIES:Event Registration
END:VEVENT
BEGIN:VEVENT
DTSTART;TZID=UTC:20190618T143000
DTEND;TZID=UTC:20190618T163000
DTSTAMP:20260423T151646
CREATED:20211118T133025Z
LAST-MODIFIED:20211123T183629Z
UID:10000035-1560868200-1560875400@quegroup.org
SUMMARY:Workshop 3-B: Event Manager
DESCRIPTION:Workshop 3-B: Event Manager\nThiago Alvares\, Data Studio \nThe Event Manager workshop will teach you how to send automated email notifications\, reports and messages to customers and employees. Learn the report scheduler and how to customize scripts to create efficient communication in your workflows. \n\n\n	Related
URL:https://quegroup.org/event/workshop-3-b-event-manager/
LOCATION:Marriot – Coronado Island\, Marriot - Coronado Island\, San Diego\, CA\, 92101\, United States
CATEGORIES:Event Registration
END:VEVENT
BEGIN:VEVENT
DTSTART;TZID=UTC:20190618T143000
DTEND;TZID=UTC:20190618T163000
DTSTAMP:20260423T151646
CREATED:20211118T001217Z
LAST-MODIFIED:20211123T183714Z
UID:10000039-1560868200-1560875400@quegroup.org
SUMMARY:Workshop 3-A: Advanced SQL and Analytics
DESCRIPTION:Workshop 3-A: Advanced SQL and Analytics\nComponent Control \nLearn about advanced SQL concepts and a look into the Power of BI Integration Module\, the new analytics module. Practice techniques on how to approach complex scenarios when building your SQL queries of Quantum. \n\n\n	Related
URL:https://quegroup.org/event/workshop-3-a-advanced-sql-and-analytics/
LOCATION:Marriot – Coronado Island\, Marriot - Coronado Island\, San Diego\, CA\, 92101\, United States
CATEGORIES:Event Registration
END:VEVENT
BEGIN:VEVENT
DTSTART;TZID=UTC:20190618T000000
DTEND;TZID=UTC:20190620T000000
DTSTAMP:20260423T151646
CREATED:20211117T234027Z
LAST-MODIFIED:20211123T184259Z
UID:10000044-1560816000-1560988800@quegroup.org
SUMMARY:2019 Annual QUE Group Conference (San Diego/Coronado Island)
DESCRIPTION:  \n\nRegistration for 2019 is open!\nRegister now and take advantage of the Early Bird Special before March 31st! \nThe QUE Group invites you to register for\nthe 14th Annual QUE Group Conference.\nRegister now Book your hotel room \n\n  \n\n\n\n\n✓\n\nWe will only be accepting online credit card payments for registration. To request special alternative arrangements\, contact the Board@quegroup.org\n\n\n\n\n\n\n\n✓\n\nQUE Group 2019 is a Members only event! Sign up for your 1st year free membership by contacting usercommittee@quegroup.org (excludes consultants)\n\n\n\n\n\n\n\n✓\n\nDiscounts for Speakers are still available but are limited. Expand your network by sharing your experience with Quantum.\n\n\n\n\n\n\n\n✓\n\nPurchase Passes to access classroom style workshops to maximize hands on learning. Workshops will be held on Tuesday June 18th\, 2019. 1 Pass will grant admission to 1 Workshop. 2 options of Workshops will be held concurrently during the morning\, noon\, and afternoon slots. See the conference outline for more details. (coming soon)\n\n\n\n\n\n\n\n✓\n\nThe Consultants package now includes an option for a pop-up office\, where you can market your business and build relationships with attendee’s seeking specific support.\n\n\n\n\n\n\n•\n\nNo refunds issued for cancelled reservations after June 1st. Refunds for cancellations received prior to June 1st will be issued less a $50 non-refundable processing fee.\n\n\n•\n\nA 10% Late fee will apply to payments collected during or after the 2019 QUE Group Conference closes.\n\n\n•\n\nWorkshops seats will not be reserved until after payment is received.\n\n\n\n\n\n\n	Related
URL:https://quegroup.org/event/2019-annual-que-group-conference-san-diego-coronado-island/
LOCATION:Marriot – Coronado Island\, Marriot - Coronado Island\, San Diego\, CA\, 92101\, United States
CATEGORIES:Event Registration
END:VEVENT
BEGIN:VEVENT
DTSTART;TZID=UTC:20190618T000000
DTEND;TZID=UTC:20190618T000000
DTSTAMP:20260423T151646
CREATED:20211118T000436Z
LAST-MODIFIED:20211123T184408Z
UID:10000040-1560816000-1560816000@quegroup.org
SUMMARY:Workshop 2-B: Navigating Accounting
DESCRIPTION:Workshop 2-B: Navigating Accounting\nJamie Correia\, Component Control \nA comprehensive look at the Quantum Accounting Modules. Learn about the functionality behind the settings while reviewing a recommended launch of a new accounting company with a Senior Financial Accounting Analyst. \n\n\n	Related
URL:https://quegroup.org/event/workshop-2-b-navigating-accounting-2/
LOCATION:Marriot – Coronado Island\, Marriot - Coronado Island\, San Diego\, CA\, 92101\, United States
CATEGORIES:Event Registration
END:VEVENT
BEGIN:VEVENT
DTSTART;TZID=UTC:20190618T000000
DTEND;TZID=UTC:20190618T000000
DTSTAMP:20260423T151646
CREATED:20211117T235842Z
LAST-MODIFIED:20211123T184507Z
UID:10000041-1560816000-1560816000@quegroup.org
SUMMARY:Workshop 2-A: Beginner's SQL
DESCRIPTION:Workshop 2-A: Beginner’s SQL\nPatsy Lippiatt\, Component Control \nThe Beginner’s SQL workshop will cover the basics of SQL\, focusing on select statements\, learning to navigate your data\, basic syntax and self  teaching tips. Build a report together using a select statement and joins. \n\n\n	Related
URL:https://quegroup.org/event/workshop-2-a-beginners-sql/
LOCATION:Marriot – Coronado Island\, Marriot - Coronado Island\, San Diego\, CA\, 92101\, United States
CATEGORIES:Event Registration
END:VEVENT
BEGIN:VEVENT
DTSTART;TZID=UTC:20190618T000000
DTEND;TZID=UTC:20190618T000000
DTSTAMP:20260423T151646
CREATED:20211117T235351Z
LAST-MODIFIED:20211123T184554Z
UID:10000042-1560816000-1560816000@quegroup.org
SUMMARY:Workshop 1-B: Forms Designer
DESCRIPTION:Workshop 1-B: Forms Designer\nThiago Alvares\, Data Studio \nThis workshop will show you how to accomplish design changes and data requests.\nTake a closer look at advanced scenarios when requesting data and gain a  better understanding of how the data pipelines work. Edit a form in a class activity with additional challenges available for more advanced users. \n\n\n	Related
URL:https://quegroup.org/event/workshop-1-b-forms-designer/
LOCATION:Marriot – Coronado Island\, Marriot - Coronado Island\, San Diego\, CA\, 92101\, United States
CATEGORIES:Event Registration
END:VEVENT
BEGIN:VEVENT
DTSTART;TZID=UTC:20190618T000000
DTEND;TZID=UTC:20190618T000000
DTSTAMP:20260423T151646
CREATED:20211117T234850Z
LAST-MODIFIED:20211123T184640Z
UID:10000043-1560816000-1560816000@quegroup.org
SUMMARY:Workshop 1-A: What is SQL?
DESCRIPTION:Workshop 1-A: What is SQL?\nPatsy Lippiatt\, Component Control \nA beginner’s basic introduction to SQL. Gain an understanding of what SQL is and what it can be used for. Learn about the aspects of a Quantum database that will lead to understanding of how to use SQL. Build and practice simple select statements following guided class activity. \n\n\n	Related
URL:https://quegroup.org/event/workshop-1-a-what-is-sql/
LOCATION:Marriot – Coronado Island\, Marriot - Coronado Island\, San Diego\, CA\, 92101\, United States
CATEGORIES:Event Registration
END:VEVENT
BEGIN:VEVENT
DTSTART;TZID=UTC:20180619T000000
DTEND;TZID=UTC:20180621T000000
DTSTAMP:20260423T151646
CREATED:20211117T232150Z
LAST-MODIFIED:20211123T185135Z
UID:10000026-1529366400-1529539200@quegroup.org
SUMMARY:2018 Annual QUE Group Conference (San Diego/Coronado Island)
DESCRIPTION:  \nThe QUE Group would like to invite you to register for the 13th Annual QUE Group Conference.  This event will take place in San Diego\, California from June 19th to June 21st. This annual conference brings together Quantum Users\, industry leaders\, and Component Control staff to provide you with knowledge and inspiration to improve your business using the Quantum Control software.\nThis year\, we have opened the QUE Group membership to everyone. You asked for more answers\, and we want to help you find them. Your QUE Group Board will be introducing help booths to provide one on one support.  The Consultants package includes an option for a personalized booth\, where you can market your business and build relationships with attendee’s seeking specific support.\nFrom the success of our trial workshops last year\, another 4hrs of hands on learning has been added.  Workshops will be held on the Tuesday afternoon\, see the conference outline for more details.  Register now and take advantage of the Early Bird Special before March 1st! \nRegistration can be paid via check or PayPal (you do not need a PayPal account\, but you must pay via their website) or by sending a check to:\nQUE Group\nPO Box 191772\nAtlanta\, GA 30319 \nNo refunds issued for cancelled reservations after June 1st.\nRefunds for cancellations received prior to June 1st will be issued less a $50 non-refundable processing fee. \nBook your hotel room\n\n\n	Related
URL:https://quegroup.org/event/2018-annual-que-group-conference-san-diego-coronado-island/
LOCATION:Marriot – Coronado Island\, Marriot - Coronado Island\, San Diego\, CA\, 92101\, United States
CATEGORIES:Event Registration
END:VEVENT
END:VCALENDAR