BEGIN:VCALENDAR
VERSION:2.0
PRODID:-//QUE Group - ECPv6.15.20//NONSGML v1.0//EN
CALSCALE:GREGORIAN
METHOD:PUBLISH
X-ORIGINAL-URL:https://quegroup.org
X-WR-CALDESC:Events for QUE Group
REFRESH-INTERVAL;VALUE=DURATION:PT1H
X-Robots-Tag:noindex
X-PUBLISHED-TTL:PT1H
BEGIN:VTIMEZONE
TZID:UTC
BEGIN:STANDARD
TZOFFSETFROM:+0000
TZOFFSETTO:+0000
TZNAME:UTC
DTSTART:20190101T000000
END:STANDARD
END:VTIMEZONE
BEGIN:VEVENT
DTSTART;TZID=UTC:20210625T093000
DTEND;TZID=UTC:20210625T133000
DTSTAMP:20260423T133858
CREATED:20211118T003659Z
LAST-MODIFIED:20211123T182734Z
UID:10000047-1624613400-1624627800@quegroup.org
SUMMARY:ILS/CONNECT Virtual Conference featuring QUE Group
DESCRIPTION:REGISTER TODAY! \nILS/CONNECT & Component Control Virtual Conference featuring QUE Group \nThe QUE Group Board of Directors and Participating Users are hosting an interactive\, live event to provide our Quantum User Exchange members with real life experience\, solutions\, best practices and insights for the best possible integration of Quantum Control Software. \nWhat to Expect: \nQUE Group Board members and super user members will be offering presentations\, proven tools and solutions to assist your organization in getting the most out of your Quantum ERP. \nWe will be bringing the considerable experience and problem solving talent to the table to help you build your individual roadmap to success using Quantum by Component Control. \nWhat to Gain: \n\nIntegration Insights for your unique environment\nAdaptations and Perspectives on Quantum Data\nIndustry Best Practices\nLeveraging Quantum in the current market\n\n\n\n\n\nILS Connect Virtual Conference: Quantum Integration and Best Practices.\n\n\nPresented by: QUE GROUP\n\n\nLive: June.25.2021 @ 9:30am CDT\n\n\n✈ Register Here!\n\n\n\n\n\n\n	Related
URL:https://quegroup.org/event/ils-connect-virtual-conference-featuring-que-group/
LOCATION:Online
CATEGORIES:Event Registration
END:VEVENT
BEGIN:VEVENT
DTSTART;TZID=UTC:20200609T110000
DTEND;TZID=UTC:20200609T110000
DTSTAMP:20260423T133858
CREATED:20211118T003010Z
LAST-MODIFIED:20211123T183538Z
UID:10000046-1591700400-1591700400@quegroup.org
SUMMARY:ILS/CONNECT & Component Control Virtual Conference featuring Que Group
DESCRIPTION:REGISTER TODAY! \nILS/CONNECT & Component Control Virtual Conference featuring Que Group \nWINNING IN THE NEW NORMAL\, the premier virtual conference for the Aviation aftermarket – July 9th\, 2020 \nSpecial Early Bird Registration – $29 per person/ Regular – $40\n(Early Bird Available until June 18) \nCovid-19 will leave a lasting impact on the Aviation industry and there is much speculation on what the new normal will look like for the Aviation Aftermarket. Gain key insights from leading Aviation executives on what they expect to change\, how to set-up for success and how critical Market Intelligence’s role will be in the future. \nSponsor and registration proceeds from this conference will be donated to Direct Relief in support of COVID-19. \nBy Registering you will receive access to all of Day 1 Events\, including 12 months free access to the recorded event.\nTake advantage of a discounted registration rate by signing up today for the WINNING IN THE NEW NORMAL virtual conference being held July 9th. This special early bird rate will expire on June 18\, 2020. \nFor QUE Group members\nThe QUE Group is the Quantum User Exchange Group. We look forward to welcoming you to the conference on July9th! See the Annual Component Control sessions you love on July 9th and – uniquely for Que Group members – join us for an additional day July 10th for a unique QUE virtual experience including Virtual Round tables and Quantum Webinars. Visit www.quegroup.org for the in-depth agenda for day 2. \n\n\n	Related
URL:https://quegroup.org/event/ils-connect-component-control-virtual-conference-featuring-que-group/
LOCATION:Online
CATEGORIES:Event Registration
END:VEVENT
END:VCALENDAR